BEGIN:VCALENDAR
VERSION:2.0
PRODID:-//Fun Fur Paws - ECPv6.7.0//NONSGML v1.0//EN
CALSCALE:GREGORIAN
METHOD:PUBLISH
X-ORIGINAL-URL:https://funfurpaws.com
X-WR-CALDESC:Events for Fun Fur Paws
REFRESH-INTERVAL;VALUE=DURATION:PT1H
X-Robots-Tag:noindex
X-PUBLISHED-TTL:PT1H
BEGIN:VTIMEZONE
TZID:UTC
BEGIN:STANDARD
TZOFFSETFROM:+0000
TZOFFSETTO:+0000
TZNAME:UTC
DTSTART:20250101T000000
END:STANDARD
END:VTIMEZONE
BEGIN:VEVENT
DTSTART;TZID=UTC:20250628T080000
DTEND;TZID=UTC:20250629T170000
DTSTAMP:20260421T094000
CREATED:20250213T000139Z
LAST-MODIFIED:20250213T000139Z
UID:5005-1751097600-1751216400@funfurpaws.com
SUMMARY:CPE Agility Trial ~ hosted by Sno-Bounders
DESCRIPTION:
URL:https://funfurpaws.com/event/cpe-agility-trial-hosted-by-sno-bounders-3/
LOCATION:Fun Fur Paws\, 22352 Stargate Place \, Mount Vernon\, WA\, 98274\, United States
END:VEVENT
END:VCALENDAR